BEGIN:VCALENDAR
VERSION:2.0
PRODID:-//Musikverein Gutenzell e.V. - ECPv6.15.20//NONSGML v1.0//EN
CALSCALE:GREGORIAN
METHOD:PUBLISH
X-ORIGINAL-URL:https://mv-gutenzell.de
X-WR-CALDESC:Veranstaltungen für Musikverein Gutenzell e.V.
REFRESH-INTERVAL;VALUE=DURATION:PT1H
X-Robots-Tag:noindex
X-PUBLISHED-TTL:PT1H
BEGIN:VTIMEZONE
TZID:Europe/Berlin
BEGIN:DAYLIGHT
TZOFFSETFROM:+0100
TZOFFSETTO:+0200
TZNAME:CEST
DTSTART:20250330T010000
END:DAYLIGHT
BEGIN:STANDARD
TZOFFSETFROM:+0200
TZOFFSETTO:+0100
TZNAME:CET
DTSTART:20251026T010000
END:STANDARD
BEGIN:DAYLIGHT
TZOFFSETFROM:+0100
TZOFFSETTO:+0200
TZNAME:CEST
DTSTART:20260329T010000
END:DAYLIGHT
BEGIN:STANDARD
TZOFFSETFROM:+0200
TZOFFSETTO:+0100
TZNAME:CET
DTSTART:20261025T010000
END:STANDARD
BEGIN:DAYLIGHT
TZOFFSETFROM:+0100
TZOFFSETTO:+0200
TZNAME:CEST
DTSTART:20270328T010000
END:DAYLIGHT
BEGIN:STANDARD
TZOFFSETFROM:+0200
TZOFFSETTO:+0100
TZNAME:CET
DTSTART:20271031T010000
END:STANDARD
END:VTIMEZONE
BEGIN:VEVENT
DTSTART;TZID=Europe/Berlin:20260425T170000
DTEND;TZID=Europe/Berlin:20260425T180000
DTSTAMP:20260421T131729
CREATED:20251229T145855Z
LAST-MODIFIED:20251229T151155Z
UID:3839-1777136400-1777140000@mv-gutenzell.de
SUMMARY:Ehrungsabend VfB Gutenzell
DESCRIPTION:
URL:https://mv-gutenzell.de/termin/ehrungsabend-vfb-gutenzell/
LOCATION:Mehrzweckhalle Gutenzell\, Laubacher Weg 4\, Gutenzell-Hürbel\, Baden-Württemberg\, 88484\, Germany
CATEGORIES:2026
END:VEVENT
BEGIN:VEVENT
DTSTART;TZID=Europe/Berlin:20260503T100000
DTEND;TZID=Europe/Berlin:20260503T140000
DTSTAMP:20260421T131729
CREATED:20251229T150230Z
LAST-MODIFIED:20251229T151057Z
UID:3845-1777802400-1777816800@mv-gutenzell.de
SUMMARY:Georgsritt Ochsenhausen
DESCRIPTION:
URL:https://mv-gutenzell.de/termin/georgsritt-ochsenhausen-2/
LOCATION:Basilika St. Georg Ochsenhausen\, Schloßbezirk 8\, Ochsenhausen\, Baden-Württemberg\, 88416\, Germany
CATEGORIES:2026
END:VEVENT
BEGIN:VEVENT
DTSTART;TZID=Europe/Berlin:20260531T180000
DTEND;TZID=Europe/Berlin:20260531T193000
DTSTAMP:20260421T131729
CREATED:20251229T150541Z
LAST-MODIFIED:20251229T151052Z
UID:3847-1780250400-1780255800@mv-gutenzell.de
SUMMARY:Maiandacht
DESCRIPTION:
URL:https://mv-gutenzell.de/termin/maiandacht-2/
LOCATION:Halde Gutenzell\, Hardtweg 1\, Gutenzell-Hürbel\, Baden-Württemberg\, 88484\, Germany
CATEGORIES:2026
END:VEVENT
BEGIN:VEVENT
DTSTART;TZID=Europe/Berlin:20260604T110000
DTEND;TZID=Europe/Berlin:20260604T143000
DTSTAMP:20260421T131729
CREATED:20260409T150457Z
LAST-MODIFIED:20260409T150501Z
UID:3938-1780570800-1780583400@mv-gutenzell.de
SUMMARY:Gartenfest Burgrieden
DESCRIPTION:
URL:https://mv-gutenzell.de/termin/gartenfest-burgrieden/
LOCATION:Rottalhalle Burgrieden\, Fesselweg 10\, Burgrieden\, Baden-Württemberg\, 88483\, Germany
END:VEVENT
BEGIN:VEVENT
DTSTART;TZID=Europe/Berlin:20260606T130000
DTEND;TZID=Europe/Berlin:20260606T230000
DTSTAMP:20260421T131729
CREATED:20251229T150903Z
LAST-MODIFIED:20251229T151048Z
UID:3849-1780750800-1780786800@mv-gutenzell.de
SUMMARY:Tag der Blasmusik in Rot an der Rot
DESCRIPTION:
URL:https://mv-gutenzell.de/termin/tag-der-blasmusik-in-rot-an-der-rot/
LOCATION:Baden-Württemberg
CATEGORIES:2026
END:VEVENT
BEGIN:VEVENT
DTSTART;TZID=Europe/Berlin:20260703T190000
DTEND;TZID=Europe/Berlin:20260705T233000
DTSTAMP:20260421T131729
CREATED:20251229T151021Z
LAST-MODIFIED:20251229T151043Z
UID:3852-1783105200-1783294200@mv-gutenzell.de
SUMMARY:Haldenfest
DESCRIPTION:
URL:https://mv-gutenzell.de/termin/haldenfest-2/
LOCATION:Halde Gutenzell\, Hardtweg 1\, Gutenzell-Hürbel\, Baden-Württemberg\, 88484\, Germany
CATEGORIES:2026
END:VEVENT
BEGIN:VEVENT
DTSTART;TZID=Europe/Berlin:20260710T070000
DTEND;TZID=Europe/Berlin:20260710T100000
DTSTAMP:20260421T131729
CREATED:20260102T111003Z
LAST-MODIFIED:20260102T112202Z
UID:3856-1783666800-1783677600@mv-gutenzell.de
SUMMARY:Blutritt Bad Wurzach
DESCRIPTION:
URL:https://mv-gutenzell.de/termin/blutritt-bad-wurzach/
LOCATION:Bad Wurzach\, Bad Wurzach\, Bad Wurzach\, Baden-Württemberg\, 88410\, Germany
CATEGORIES:2026
END:VEVENT
BEGIN:VEVENT
DTSTART;TZID=Europe/Berlin:20260730T200000
DTEND;TZID=Europe/Berlin:20260730T233000
DTSTAMP:20260421T131729
CREATED:20260102T111133Z
LAST-MODIFIED:20260102T112156Z
UID:3858-1785441600-1785454200@mv-gutenzell.de
SUMMARY:Schlosshof-Serenade
DESCRIPTION:
URL:https://mv-gutenzell.de/termin/schlosshof-serenade/
LOCATION:Klosterkirche Gutenzell\, Schloßbezirk\, Gutenzell-Hürbel\, Baden-Württemberg\, 88484\, Germany
CATEGORIES:2026
END:VEVENT
BEGIN:VEVENT
DTSTART;TZID=Europe/Berlin:20260913T100000
DTEND;TZID=Europe/Berlin:20260913T140000
DTSTAMP:20260421T131729
CREATED:20260102T111725Z
LAST-MODIFIED:20260102T112146Z
UID:3860-1789293600-1789308000@mv-gutenzell.de
SUMMARY:Gartentage Illertissen
DESCRIPTION:
URL:https://mv-gutenzell.de/termin/gartentage-illertissen/
LOCATION:Staudengärtnerei Gaißmayer GmbH & Co. KG\, Jungviehweide 3\, Illertissen\, Bayern\, 89257\, Germany
CATEGORIES:2026
END:VEVENT
BEGIN:VEVENT
DTSTART;TZID=Europe/Berlin:20260920T113000
DTEND;TZID=Europe/Berlin:20260920T180000
DTSTAMP:20260421T131729
CREATED:20260102T111856Z
LAST-MODIFIED:20260102T112142Z
UID:3866-1789903800-1789927200@mv-gutenzell.de
SUMMARY:Wendelinusritt
DESCRIPTION:
URL:https://mv-gutenzell.de/termin/wendelinusritt-2/
LOCATION:Gutenzell / Niedernzell\, Gutenzell\, Gutenzell-Hürbel\, Baden-Württemberg\, 88484\, Germany
CATEGORIES:2026
END:VEVENT
BEGIN:VEVENT
DTSTART;TZID=Europe/Berlin:20261212T180000
DTEND;TZID=Europe/Berlin:20261212T193000
DTSTAMP:20260421T131729
CREATED:20260102T112022Z
LAST-MODIFIED:20260302T075248Z
UID:3868-1797098400-1797103800@mv-gutenzell.de
SUMMARY:Gottesdienst zum 3. Advent
DESCRIPTION:
URL:https://mv-gutenzell.de/termin/gottesdienst-zum-3-advent/
LOCATION:Klosterkirche Gutenzell\, Schloßbezirk\, Gutenzell-Hürbel\, Baden-Württemberg\, 88484\, Germany
CATEGORIES:2026
END:VEVENT
BEGIN:VEVENT
DTSTART;TZID=Europe/Berlin:20261226T143000
DTEND;TZID=Europe/Berlin:20261226T153000
DTSTAMP:20260421T131729
CREATED:20260102T112125Z
LAST-MODIFIED:20260102T112137Z
UID:3870-1798295400-1798299000@mv-gutenzell.de
SUMMARY:Krippenmusik
DESCRIPTION:
URL:https://mv-gutenzell.de/termin/krippenmusik/
LOCATION:Klosterkirche Gutenzell\, Schloßbezirk\, Gutenzell-Hürbel\, Baden-Württemberg\, 88484\, Germany
CATEGORIES:2026
END:VEVENT
END:VCALENDAR